BEGIN:VCALENDAR
VERSION:2.0
PRODID:-//Oakleigh Carnegie RSL and Community Club - ECPv6.15.20//NONSGML v1.0//EN
CALSCALE:GREGORIAN
METHOD:PUBLISH
X-ORIGINAL-URL:https://ocrsl.com.au
X-WR-CALDESC:Events for Oakleigh Carnegie RSL and Community Club
REFRESH-INTERVAL;VALUE=DURATION:PT1H
X-Robots-Tag:noindex
X-PUBLISHED-TTL:PT1H
BEGIN:VTIMEZONE
TZID:Australia/Melbourne
BEGIN:STANDARD
TZOFFSETFROM:+1100
TZOFFSETTO:+1000
TZNAME:AEST
DTSTART:20250405T160000
END:STANDARD
BEGIN:DAYLIGHT
TZOFFSETFROM:+1000
TZOFFSETTO:+1100
TZNAME:AEDT
DTSTART:20251004T160000
END:DAYLIGHT
BEGIN:STANDARD
TZOFFSETFROM:+1100
TZOFFSETTO:+1000
TZNAME:AEST
DTSTART:20260404T160000
END:STANDARD
BEGIN:DAYLIGHT
TZOFFSETFROM:+1000
TZOFFSETTO:+1100
TZNAME:AEDT
DTSTART:20261003T160000
END:DAYLIGHT
BEGIN:STANDARD
TZOFFSETFROM:+1100
TZOFFSETTO:+1000
TZNAME:AEST
DTSTART:20270403T160000
END:STANDARD
BEGIN:DAYLIGHT
TZOFFSETFROM:+1000
TZOFFSETTO:+1100
TZNAME:AEDT
DTSTART:20271002T160000
END:DAYLIGHT
END:VTIMEZONE
BEGIN:VEVENT
DTSTART;TZID=Australia/Melbourne:20260829T203000
DTEND;TZID=Australia/Melbourne:20260829T230000
DTSTAMP:20260423T185951
CREATED:20260323T040307Z
LAST-MODIFIED:20260325T040158Z
UID:3541-1788035400-1788044400@ocrsl.com.au
SUMMARY:SOUL CHISEL – SAT AUG 29
DESCRIPTION:Get ready for a powerhouse tribute to one of Australia’s greatest rock icons with SOUL CHISEL – The Ultimate Jimmy Barnes Tribute. This high-energy show takes you on a journey from the chart-topping Soul Deep—still one of Australia’s biggest-selling albums—through Jimmy’s incredible solo career and into the legendary hits of Cold Chisel. \n\n\n\nFronted by the dynamic Steve Callanan\, SOUL CHISEL delivers not only the unmistakable sound but also the iconic look and presence of Jimmy Barnes himself. Backed by a powerful live band\, every performance is packed with passion\, energy\, and authenticity. \n\n\n\nFrom soulful classics to pub rock anthems\, this is more than a tribute—it’s a full concert experience celebrating a true Aussie legend. If you love the music\, the voice\, and the attitude\, SOUL CHISEL is a must-see show that will leave you wanting more!
URL:https://ocrsl.com.au/event/soul-chisel-sat-may-30/
LOCATION:Oakleigh Music Hall – Oakleigh Carnegie RSL\, 95 Drummond Street\, Oakleigh\, Vic\, 3166
ATTACH;FMTTYPE=image/jpeg:https://ocrsl.com.au/wp-content/uploads/2026/03/FB-Event-Header-1920x1005-2.jpg
ORGANIZER;CN="Ian Westman":MAILTO:ianwestman@gmail.com
END:VEVENT
END:VCALENDAR